BEGIN:VCALENDAR
VERSION:2.0
PRODID:-//Tukios.com/
BEGIN:VEVENT
UID:6eeb19ae-03ca-4e6c-bfeb-9d35f6cc1a85@www.obrienfamilyfh.com
DTSTAMP:20260425T200718Z
DTSTART:20260509T133000Z
DTEND:20260509T150000Z
SUMMARY:Visitation
DESCRIPTION:
URL:https://www.obrienfamilyfh.com/obituaries/dorothy-schenker
LOCATION: 30 Main Street  South Hadley MA 01075
GEO:42.2156573;-72.5970531
END:VEVENT
END:VCALENDAR