BEGIN:VCALENDAR
VERSION:2.0
PRODID:-//Tukios.com/
BEGIN:VEVENT
UID:1b4717bd-1e92-4f9d-92ab-401666af7db3@www.obrienfamilyfh.com
DTSTAMP:20260425T200717Z
DTSTART:20260509T150000Z
DTEND:20260509T160000Z
SUMMARY:Funeral Service
DESCRIPTION:
URL:https://www.obrienfamilyfh.com/obituaries/dorothy-schenker
LOCATION: 30 Main Street  South Hadley MA 01075
GEO:42.2156573;-72.5970531
END:VEVENT
END:VCALENDAR